BEGIN:VCALENDAR
VERSION:2.0
PRODID:-//Northwest School of Animal Massage ~ Where the Future is in Your Hands - ECPv6.15.18//NONSGML v1.0//EN
CALSCALE:GREGORIAN
METHOD:PUBLISH
X-ORIGINAL-URL:https://www.nwsam.com
X-WR-CALDESC:Events for Northwest School of Animal Massage ~ Where the Future is in Your Hands
REFRESH-INTERVAL;VALUE=DURATION:PT1H
X-Robots-Tag:noindex
X-PUBLISHED-TTL:PT1H
BEGIN:VTIMEZONE
TZID:America/Los_Angeles
BEGIN:DAYLIGHT
TZOFFSETFROM:-0800
TZOFFSETTO:-0700
TZNAME:PDT
DTSTART:20250309T100000
END:DAYLIGHT
BEGIN:STANDARD
TZOFFSETFROM:-0700
TZOFFSETTO:-0800
TZNAME:PST
DTSTART:20251102T090000
END:STANDARD
BEGIN:DAYLIGHT
TZOFFSETFROM:-0800
TZOFFSETTO:-0700
TZNAME:PDT
DTSTART:20260308T100000
END:DAYLIGHT
BEGIN:STANDARD
TZOFFSETFROM:-0700
TZOFFSETTO:-0800
TZNAME:PST
DTSTART:20261101T090000
END:STANDARD
BEGIN:DAYLIGHT
TZOFFSETFROM:-0800
TZOFFSETTO:-0700
TZNAME:PDT
DTSTART:20270314T100000
END:DAYLIGHT
BEGIN:STANDARD
TZOFFSETFROM:-0700
TZOFFSETTO:-0800
TZNAME:PST
DTSTART:20271107T090000
END:STANDARD
END:VTIMEZONE
BEGIN:VEVENT
DTSTART;TZID=America/Los_Angeles:20260122T100000
DTEND;TZID=America/Los_Angeles:20260122T160000
DTSTAMP:20260422T073843
CREATED:20251209T225901Z
LAST-MODIFIED:20251209T225901Z
UID:16972-1769076000-1769097600@www.nwsam.com
SUMMARY:Bone Exploration: A Hands-On Journey
DESCRIPTION:Learning is done in at least 3 dimensions\nJoin Lorre Mueller  (Trinity Equine Services) and Lola Michelin (NWSAM) for an immersive bone exploration day of the equine. This workshop is designed for animal bodyworkers who want to deepen their anatomical literacy through touch\, discussion\, and open-ended discovery \nStudents will have the chance to examine skulls\, vertebrae\, and individual bones to build intuitive understanding of structure\, movement\, and function. With short guided discussions and ample time for guided and independent exploration\, the day invites students to slow down\, observe\, compare\, assemble\, and ask questions that help them integrate the skeletal story into their bodywork practice. Learn about identification\, bone preparation methods and using bones as teaching models. \nExpect a relaxed pace\, lots of hands-on time\, and the freedom to follow your fascination. \nBone Exploration: A Hands-On Journey  ENROLL NOW \nDesigned for Animal Bodyworkers who appreciate practical\, experience based anatomy study . Direct interaction with real bones may clarify structural concepts that support more informed bodywork decisions. \n\nEvidence informed exploration\nstructural relationships\njoint mechanics\ndevelopmental and pathological patterns\nBodyworker application\n\n 
URL:https://www.nwsam.com/event/bone-exploration-a-hands-on-journey/
LOCATION:NWSAM\, 9704 SW 156th St\, Vashon\, WA\, 98070\, United States
CATEGORIES:Workshops
ATTACH;FMTTYPE=image/jpeg:https://www.nwsam.com/wp-content/uploads/2020/01/pagecontent_22-e1765319856662.jpg
ORGANIZER;CN="NWSAM":MAILTO:info@nwsam.com
END:VEVENT
END:VCALENDAR